BEGIN:VCALENDAR
VERSION:2.0
PRODID:-//wp-events-plugin.com//7.0.2//EN
BEGIN:VEVENT
UID:151@internationaldataspaces.org
DTSTART;VALUE=DATE:20220519
DTEND;VALUE=DATE:20220520
DTSTAMP:20220426T150803Z
URL:https://internationaldataspaces.org/events/data-science-summit/
SUMMARY:Data Science Summit
DESCRIPTION:19th May 2022\, The Convention Centre @ Dublin - Data Science S
 ummit is DSF International’s annual event and the melting pot of the wor
 ld’s best minds and aspirants in the fraternity of data scientists. Take
  time off\, out of your rigmarole of business-as-usual to share and enligh
 ten how data science is going to shape the future.
ATTACH;FMTTYPE=image/jpeg:https://internationaldataspaces.org/wp-content/u
 ploads/Data-Science-Summit.jpg
CATEGORIES:Fairs &amp; Events
END:VEVENT
END:VCALENDAR