BEGIN:VCALENDAR
VERSION:2.0
PRODID:-//wp-events-plugin.com//7.0.2//EN
BEGIN:VEVENT
UID:258@internationaldataspaces.org
DTSTART;VALUE=DATE:20231025
DTEND;VALUE=DATE:20231028
DTSTAMP:20230804T131916Z
URL:https://internationaldataspaces.org/events/data-and-ai-in-action-susta
 inable-impact-and-future-realities/
SUMMARY:European Big Data Value Forum | Data and AI in Action: Sustainable 
 Impact and Future Realities
DESCRIPTION:Presenting the EBDVF 2023 edition\, anchored in the theme "Data
  and AI in action: Sustainable impact and future realities." This dynamic 
 event brings together professionals from industries\, business development
 \, research\, and policy-making spheres across Europe and beyond. The obje
 ctive is to propel policy initiatives\, industrial progress\, and research
  ventures in the expansive domains of Data and AI.
ATTACH;FMTTYPE=image/jpeg:https://internationaldataspaces.org/wp-content/u
 ploads/Visual-1600-×-900px_0.png
CATEGORIES:Fairs &amp; Events
END:VEVENT
END:VCALENDAR