BEGIN:VCALENDAR
VERSION:2.0
PRODID:-//wp-events-plugin.com//7.0.2//EN
BEGIN:VEVENT
UID:104@internationaldataspaces.org
DTSTART;VALUE=DATE:20211208
DTEND;VALUE=DATE:20211210
DTSTAMP:20211115T145719Z
URL:https://internationaldataspaces.org/events/cloud-expo-europe/
SUMMARY:Cloud Expo Europe
DESCRIPTION:Cloud Expo Europe on December 8 and 9\, 2021\, at Messe Frankfu
 rt will feature current content from leading end users\, case studies and 
 panel discussions on cloud\, cyber security & DevOps\, and networking with
  IT decision makers and peer learning. Top topic this year: "Gaia-X Theatr
 e: Meet the Makers & Creators Behind the Digital Industry Revolution"...
ATTACH;FMTTYPE=image/jpeg:https://internationaldataspaces.org/wp-content/u
 ploads/Cloud-Expo-Europe.png
CATEGORIES:Fairs &amp; Events
END:VEVENT
END:VCALENDAR