BEGIN:VCALENDAR
VERSION:2.0
PRODID:-//wp-events-plugin.com//7.0.2//EN
BEGIN:VEVENT
UID:475@internationaldataspaces.org
DTSTART;TZID=Europe/Berlin:20251028T100000
DTEND;TZID=Europe/Berlin:20251028T110000
DTSTAMP:20250509T132738Z
URL:https://internationaldataspaces.org/events/bitkom-akademie-webinar-the
 -future-of-data-spaces/
SUMMARY:Bitkom Akademie Webinar | The Future of Data Spaces: Standardizatio
 n and Scalability
DESCRIPTION:Join part three of Bitkom series to explore the key requirement
 s of the EU Data Act\, focusing on data exchange\, access\, and sovereignt
 y\, and their impact on businesses.   
ATTACH;FMTTYPE=image/jpeg:https://internationaldataspaces.org/wp-content/u
 ploads/BitkomAkademie_LOS_28102025.jpg
CATEGORIES:Fairs &amp; Events
END:VEVENT
BEGIN:VTIMEZONE
TZID:Europe/Berlin
X-LIC-LOCATION:Europe/Berlin
BEGIN:STANDARD
DTSTART:20251026T020000
TZOFFSETFROM:+0200
TZOFFSETTO:+0100
TZNAME:CET
END:STANDARD
END:VTIMEZONE
END:VCALENDAR