BEGIN:VCALENDAR
VERSION:2.0
PRODID:-//wp-events-plugin.com//7.0.2//EN
BEGIN:VEVENT
UID:474@internationaldataspaces.org
DTSTART:20250515T100000Z
DTEND:20250515T110000Z
DTSTAMP:20250509T124206Z
URL:https://internationaldataspaces.org/events/bitkom-akademie-webinar-dat
 a-spaces-international/
SUMMARY:Bitkom Akademie Webinar | Data Spaces international: opportunities\
 , challenges and strategic implications
DESCRIPTION:Join part two of Bitkom series where you wll gain insights into
  the global significance of Data Spaces\, including key opportunities and 
 challenges in their development and use. Understand their strategic impact
  on businesses through best practices and decision-making frameworks.
ATTACH;FMTTYPE=image/jpeg:https://internationaldataspaces.org/wp-content/u
 ploads/Data-Spaces-international-16zu9.jpg
CATEGORIES:Fairs &amp; Events
END:VEVENT
END:VCALENDAR