BEGIN:VCALENDAR
VERSION:2.0
PRODID:-//wp-events-plugin.com//7.0.2//EN
BEGIN:VEVENT
UID:85@internationaldataspaces.org
DTSTART:20210923T020000Z
DTEND:20210923T030000Z
DTSTAMP:20210908T140140Z
URL:https://internationaldataspaces.org/events/ai-marketplace-meets-unity-
 potentials-and-challenges-in-the-use-of-ai-solutions/
SUMMARY:AI Marketplace Meets UNITY |  Potentials and Challenges in the Use 
 of AI Solutions
DESCRIPTION:When "AI Marketplace meets UNITY"\, an IDS-based platform and a
 n IDSA member meet! The virtual event "AI Marketplace meets UNITY" will fo
 cus on the potentials and challenges in the use of AI solutions by UNITY's
  costumers. In addition to an impulse for building an AI strategy and good
  practices for the development of data-driven products\, the Success Story
  "ServiceNavigator" will also be highlighted.
ATTACH;FMTTYPE=image/jpeg:https://internationaldataspaces.org/wp-content/u
 ploads/210923-AI-Marketplace-meets-UNITY-2.png
CATEGORIES:Fairs &amp; Events
END:VEVENT
END:VCALENDAR