BEGIN:VCALENDAR
VERSION:2.0
PRODID:-//wp-events-plugin.com//7.0.2//EN
BEGIN:VEVENT
UID:93@internationaldataspaces.org
DTSTART:20211118T120000Z
DTEND:20211118T143000Z
DTSTAMP:20211108T085422Z
URL:https://internationaldataspaces.org/events/ai-day/
SUMMARY:AI Day | How AI Redesigns Product Creation
DESCRIPTION:Artificial intelligence (AI) in product creation holds great po
 tential for economic growth and increased productivity. 13 percent of the 
 gross domestic product in 2025 is expected to be generated in Germany with
  services and products based on the use of AI. This corresponds to sales o
 f 488 billion euros. These figures show that the use of AI is worthwhile. 
 But how can small and medium-sized enterprises in particular introduce AI 
 applications...
ATTACH;FMTTYPE=image/jpeg:https://internationaldataspaces.org/wp-content/u
 ploads/Beitragsbild-Website_AI-Day-1.jpg
CATEGORIES:Fairs &amp; Events
END:VEVENT
END:VCALENDAR