BEGIN:VCALENDAR
VERSION:2.0
PRODID:-//wp-events-plugin.com//7.0.2//EN
BEGIN:VEVENT
UID:459@internationaldataspaces.org
DTSTART;TZID=Europe/Berlin:20251202T100000
DTEND;TZID=Europe/Berlin:20251202T170000
DTSTAMP:20250110T135037Z
URL:https://internationaldataspaces.org/events/4th-working-group-training-
 meeting-2025/
SUMMARY:4th Working Group Training Meeting 2025
DESCRIPTION:The IDSA Working Group Training meets quarterly. Meetings usual
 ly take place on-site with remote participation. IDSA working groups are r
 eserved for members. Please contact domenic.franke@internationaldataspaces
 .org to receive an invitation to the meeting.
ATTACH;FMTTYPE=image/jpeg:https://internationaldataspaces.org/wp-content/u
 ploads/Working-Group-Training.png
CATEGORIES:WG Training
END:VEVENT
BEGIN:VTIMEZONE
TZID:Europe/Berlin
X-LIC-LOCATION:Europe/Berlin
BEGIN:STANDARD
DTSTART:20251026T020000
TZOFFSETFROM:+0200
TZOFFSETTO:+0100
TZNAME:CET
END:STANDARD
END:VTIMEZONE
END:VCALENDAR