BEGIN:VCALENDAR
VERSION:2.0
PRODID:-//wp-events-plugin.com//7.0.2//EN
BEGIN:VEVENT
UID:434@internationaldataspaces.org
DTSTART:20241203T130000Z
DTEND:20241203T150000Z
DTSTAMP:20241129T155405Z
URL:https://internationaldataspaces.org/events/49877/
SUMMARY:Health Research and secondary uses: Pseudonymisation vs. Anonymisat
 ion | Data Quality and Secondary Uses
DESCRIPTION:The Microsoft-Universitat de València Chair for Privacy and Di
 gital Transformation\, CHAIMELEON Project\, and EUCAIM Project are hosting
  the event “Health Research and Secondary Uses: Facing European Health D
 ata Space Regulation.” It includes online webinars and a final hybrid ev
 ent. Explore the sessions and register for those that interest you—or al
 l!
ATTACH;FMTTYPE=image/jpeg:https://internationaldataspaces.org/wp-content/u
 ploads/2-3.png
CATEGORIES:Fairs &amp; Events
END:VEVENT
END:VCALENDAR