BEGIN:VCALENDAR
VERSION:2.0
PRODID:-//wp-events-plugin.com//7.0.2//EN
BEGIN:VEVENT
UID:75@internationaldataspaces.org
DTSTART;VALUE=DATE:20210928
DTEND;VALUE=DATE:20210930
DTSTAMP:20210816T162420Z
URL:https://internationaldataspaces.org/events/2nd-hackathon-attacking-fed
 erated-learning-scenarios/
SUMMARY:2nd Musketeer Hackathon | Attacking Federated Learning Scenarios
DESCRIPTION:Prepare your keyboards\, it's time for hacking! Come and try to
  develop attacks capable of penetrating our defences in a federated learni
 ng environment. You’ll have the opportunity to attack the MUSKETEER plat
 form and try to penetrate their defences and affect our federated learning
  training in 3 different scenarios.
ATTACH;FMTTYPE=image/jpeg:https://internationaldataspaces.org/wp-content/u
 ploads/2nd-Hackathon-Social-Media_16-x-9.jpg
CATEGORIES:Fairs &amp; Events
END:VEVENT
END:VCALENDAR