BEGIN:VCALENDAR
VERSION:2.0
PRODID:-//wp-events-plugin.com//7.0.2//EN
BEGIN:VEVENT
UID:81@internationaldataspaces.org
DTSTART;VALUE=DATE:20211207
DTEND;VALUE=DATE:20211210
DTSTAMP:20211206T154300Z
URL:https://internationaldataspaces.org/events/2nd-data-sharing-winter-sch
 ool/
SUMMARY:Data Sharing Winter School | Next Mobility – Smart Data Sharing t
 o Move Goods and People
DESCRIPTION:This year's Data Sharing Winter School will focus on a very rel
 evant and timely topic: smart mobility. A unique opportunity to broaden an
 d deepen knowledge of data sharing\, connect with experts\, and get involv
 ed in the field\, whether from a research\, business or technical perspect
 ive. With speakers from academia and industry to share and compare advance
 d viewpoints and to present innovative examples from mobility\, logistics\
 , automotive and smart city.
ATTACH;FMTTYPE=image/jpeg:https://internationaldataspaces.org/wp-content/u
 ploads/211104_Winter-School_2021_1600.900.png
CATEGORIES:Fairs &amp; Events,IDSA Events &amp; Live Sessions
END:VEVENT
END:VCALENDAR