BEGIN:VCALENDAR
VERSION:2.0
PRODID:-//wp-events-plugin.com//7.0.2//EN
BEGIN:VEVENT
UID:624@internationaldataspaces.org
DTSTART;TZID=Europe/Berlin:20260310T100000
DTEND;TZID=Europe/Berlin:20260310T170000
DTSTAMP:20260227T130807Z
URL:https://internationaldataspaces.org/events/1st-meeting-of-the-working-
 group-architecture-2026-1/
SUMMARY:1st Meeting of the Working Group Architecture 2026
DESCRIPTION:The IDSA Working Group Architecture meets quarterly. Meetings u
 sually take place on-site with remote participation. IDSA working groups a
 re reserved for members. To make the process easier\, members can now sign
  up directly via our online registration page.
ATTACH;FMTTYPE=image/jpeg:https://internationaldataspaces.org/wp-content/u
 ploads/Working-Group-Architecture_yellow.png
CATEGORIES:WG Architecture
END:VEVENT
BEGIN:VTIMEZONE
TZID:Europe/Berlin
X-LIC-LOCATION:Europe/Berlin
BEGIN:STANDARD
DTSTART:20251026T020000
TZOFFSETFROM:+0200
TZOFFSETTO:+0100
TZNAME:CET
END:STANDARD
END:VTIMEZONE
END:VCALENDAR